BEGIN:VCALENDAR
VERSION:2.0
PRODID:-//Healingrejser.dk - ECPv6.15.17.1//NONSGML v1.0//EN
CALSCALE:GREGORIAN
METHOD:PUBLISH
X-ORIGINAL-URL:https://www.healingrejser.dk
X-WR-CALDESC:Begivenheder for Healingrejser.dk
REFRESH-INTERVAL;VALUE=DURATION:PT1H
X-Robots-Tag:noindex
X-PUBLISHED-TTL:PT1H
BEGIN:VTIMEZONE
TZID:UTC
BEGIN:STANDARD
TZOFFSETFROM:+0000
TZOFFSETTO:+0000
TZNAME:UTC
DTSTART:20160101T000000
END:STANDARD
END:VTIMEZONE
BEGIN:VEVENT
DTSTART;TZID=UTC:20170916T120000
DTEND;TZID=UTC:20170918T110000
DTSTAMP:20260420T024137
CREATED:20170606T095111Z
LAST-MODIFIED:20170911T144048Z
UID:68-1505563200-1505732400@www.healingrejser.dk
SUMMARY:Healing Weekend - Stemmefrigørelse og Ayahuasca: Frihed og Healing
DESCRIPTION:Vore Healing Weekender afholdes i et sikkert\, kærligt og terapeutisk miljø og afvikles over en weekend fra lørdag middag til mandag middag. Det er muligt at ankomme om fredagen skulle dette være nødvendigt. \nRetræten indeholder altid vores Mind to Body øvelser. Dette er bla. bioenergetiske øvelser\, der er medvirkende til at vi kommer i god kontakt med kroppen og aktiverer denne. Samtidig er øvelserne gruppe øvelser\, der medvirker til at etablere gruppen. \nPå “Stemmefrigørelse og Ayahuasca” retræten er anden workshop lørdag en stemme frigørelses workshop. Her vil vi arbejde med åndedræt og stemme således at følelser og blokeringer bliver frigjort gennem stemmen. Her arbejdes i små grupper. Guides hjælper med dette arbejde hvor det er nødvendigt.
URL:https://www.healingrejser.dk/event/healing-weekend-tilbage-sjaelen-september-2017/
LOCATION:Strandgaarden\, Esby Strandvej 8\, Esby\, Knebel\, 8420\, Danmark
CATEGORIES:Healing Weekend
ATTACH;FMTTYPE=image/jpeg:https://www.healingrejser.dk/wp-content/uploads/2017/06/healingweekend.jpg
GEO:56.1286857;10.5476511
X-APPLE-STRUCTURED-LOCATION;VALUE=URI;X-ADDRESS=Strandgaarden Esby Strandvej 8 Esby Knebel 8420 Danmark;X-APPLE-RADIUS=500;X-TITLE=Esby Strandvej 8:geo:10.5476511,56.1286857
END:VEVENT
END:VCALENDAR