BEGIN:VCALENDAR
VERSION:2.0
PRODID:-//Healingrejser.dk - ECPv6.15.17.1//NONSGML v1.0//EN
CALSCALE:GREGORIAN
METHOD:PUBLISH
X-ORIGINAL-URL:https://www.healingrejser.dk
X-WR-CALDESC:Begivenheder for Healingrejser.dk
REFRESH-INTERVAL;VALUE=DURATION:PT1H
X-Robots-Tag:noindex
X-PUBLISHED-TTL:PT1H
BEGIN:VTIMEZONE
TZID:UTC
BEGIN:STANDARD
TZOFFSETFROM:+0000
TZOFFSETTO:+0000
TZNAME:UTC
DTSTART:20160101T000000
END:STANDARD
END:VTIMEZONE
BEGIN:VEVENT
DTSTART;TZID=UTC:20170923T090000
DTEND;TZID=UTC:20170923T190000
DTSTAMP:20260420T052433
CREATED:20170810T081221Z
LAST-MODIFIED:20170818T072617Z
UID:120-1506157200-1506193200@www.healingrejser.dk
SUMMARY:Gruppe Ayahuasca session
DESCRIPTION:
URL:https://www.healingrejser.dk/event/gruppe-ayahuasca-session/
LOCATION:København\, Danmark
CATEGORIES:Gruppe Ayahuasca session
GEO:56.26392;9.501785
END:VEVENT
BEGIN:VEVENT
DTSTART;TZID=UTC:20170920T183000
DTEND;TZID=UTC:20170920T213000
DTSTAMP:20260420T052433
CREATED:20170810T080241Z
LAST-MODIFIED:20170919T124150Z
UID:112-1505932200-1505943000@www.healingrejser.dk
SUMMARY:Shamanistisk Åndedrætssession
DESCRIPTION:Anvendelse af åndedrættet til at få kontakt med ånderne er en urgammel teknik og har været anvendt af urbefolkninger over hele verdenen. Først med Stanislav Grof’s udvikling af ”Holotropisk åndedrætsterapi” blev åndedrættet en del af den vestlige terapeutiske verden. \nIgennem åndedrættet\, generelt ved en slags hyperventilering\, ændres iltningsforholdene i hjernen\, hvilket i højere grad aktiverer de dele af hjernen\, der styrer det underbevidste. Ved at aktivere denne del af hjernen indtræder den rejsende i den transpersonelle verden og kan her få indblik i eksempelvis mønstre og årsager til disse. \nDen shamanistiske åndedrætsteknik er en meget effektiv måde at glide ind i den transpersonelle rejse på. Processen foregår under stærk energetiserende musik\, samtidig med at guides anvender musik instrumenter live. Som sådan kan det kaldes en kombination af åndedræt og trommerejse. Guides vil desuden anvende kropsterapeutiske metoder til at hjælpe rejsende ind i rejserne og til at forløse det\, der nu engang skal og kan forløses. \nDer anvendes åndedrætsteknikker på to af Healingrejsers weekender; “Åbning af sindet og kroppen” samt “Frihed og Healing”. \nÅndedrætssessionen afsluttes med at den rejsende skaber en tegning af rejsen\, som senere kan anvendes i en terapi session for i højere grad at integrere de elementer\, der er kommet op i rejsen.
URL:https://www.healingrejser.dk/event/shamanistisk-aandedraetssession-200917/
LOCATION:Human Education Group\, Birkeparken 4\, Åbyhøj\, 8230\, Danmark
CATEGORIES:Shamanistisk Åndedrætssession
GEO:56.156508;10.175027
X-APPLE-STRUCTURED-LOCATION;VALUE=URI;X-ADDRESS=Human Education Group Birkeparken 4 Åbyhøj 8230 Danmark;X-APPLE-RADIUS=500;X-TITLE=Birkeparken 4:geo:10.175027,56.156508
END:VEVENT
BEGIN:VEVENT
DTSTART;TZID=UTC:20170916T120000
DTEND;TZID=UTC:20170918T110000
DTSTAMP:20260420T052433
CREATED:20170606T095111Z
LAST-MODIFIED:20170911T144048Z
UID:68-1505563200-1505732400@www.healingrejser.dk
SUMMARY:Healing Weekend - Stemmefrigørelse og Ayahuasca: Frihed og Healing
DESCRIPTION:Vore Healing Weekender afholdes i et sikkert\, kærligt og terapeutisk miljø og afvikles over en weekend fra lørdag middag til mandag middag. Det er muligt at ankomme om fredagen skulle dette være nødvendigt. \nRetræten indeholder altid vores Mind to Body øvelser. Dette er bla. bioenergetiske øvelser\, der er medvirkende til at vi kommer i god kontakt med kroppen og aktiverer denne. Samtidig er øvelserne gruppe øvelser\, der medvirker til at etablere gruppen. \nPå “Stemmefrigørelse og Ayahuasca” retræten er anden workshop lørdag en stemme frigørelses workshop. Her vil vi arbejde med åndedræt og stemme således at følelser og blokeringer bliver frigjort gennem stemmen. Her arbejdes i små grupper. Guides hjælper med dette arbejde hvor det er nødvendigt.
URL:https://www.healingrejser.dk/event/healing-weekend-tilbage-sjaelen-september-2017/
LOCATION:Strandgaarden\, Esby Strandvej 8\, Esby\, Knebel\, 8420\, Danmark
CATEGORIES:Healing Weekend
ATTACH;FMTTYPE=image/jpeg:https://www.healingrejser.dk/wp-content/uploads/2017/06/healingweekend.jpg
GEO:56.1286857;10.5476511
X-APPLE-STRUCTURED-LOCATION;VALUE=URI;X-ADDRESS=Strandgaarden Esby Strandvej 8 Esby Knebel 8420 Danmark;X-APPLE-RADIUS=500;X-TITLE=Esby Strandvej 8:geo:10.5476511,56.1286857
END:VEVENT
END:VCALENDAR