BEGIN:VCALENDAR
VERSION:2.0
PRODID:-//Healingrejser.dk - ECPv6.15.17.1//NONSGML v1.0//EN
CALSCALE:GREGORIAN
METHOD:PUBLISH
X-WR-CALNAME:Healingrejser.dk
X-ORIGINAL-URL:https://www.healingrejser.dk
X-WR-CALDESC:Begivenheder for Healingrejser.dk
REFRESH-INTERVAL;VALUE=DURATION:PT1H
X-Robots-Tag:noindex
X-PUBLISHED-TTL:PT1H
BEGIN:VTIMEZONE
TZID:Europe/Helsinki
BEGIN:DAYLIGHT
TZOFFSETFROM:+0200
TZOFFSETTO:+0300
TZNAME:EEST
DTSTART:20170326T010000
END:DAYLIGHT
BEGIN:STANDARD
TZOFFSETFROM:+0300
TZOFFSETTO:+0200
TZNAME:EET
DTSTART:20171029T010000
END:STANDARD
BEGIN:DAYLIGHT
TZOFFSETFROM:+0200
TZOFFSETTO:+0300
TZNAME:EEST
DTSTART:20180325T010000
END:DAYLIGHT
BEGIN:STANDARD
TZOFFSETFROM:+0300
TZOFFSETTO:+0200
TZNAME:EET
DTSTART:20181028T010000
END:STANDARD
BEGIN:DAYLIGHT
TZOFFSETFROM:+0200
TZOFFSETTO:+0300
TZNAME:EEST
DTSTART:20190331T010000
END:DAYLIGHT
BEGIN:STANDARD
TZOFFSETFROM:+0300
TZOFFSETTO:+0200
TZNAME:EET
DTSTART:20191027T010000
END:STANDARD
END:VTIMEZONE
BEGIN:VEVENT
DTSTART;TZID=Europe/Helsinki:20180112T120000
DTEND;TZID=Europe/Helsinki:20180115T110000
DTSTAMP:20260419T191058
CREATED:20170825T085252Z
LAST-MODIFIED:20171230T190611Z
UID:202-1515758400-1516014000@www.healingrejser.dk
SUMMARY:Healingweekend - Tilbage til sjælen 12-15 jan 18
DESCRIPTION: Denne retræte indeholder to ceremonier. \nForuden dette en hel dag med terapeutiske workshops som Mind to Body og Breathwork. På nogle af disse retræter vil der være transdance eller meditation eller TTRE. Formålet med disse workshops er at integrere ceremonien fra dagen før og lukke op og klargøre til ceremonien dagen efter. \nMandag formiddag er der som altid en integrations-/Healingsworkshop\, så alle kan gøres klar til at tage hjem igen.
URL:https://www.healingrejser.dk/event/healingweekend-tilbage-sjaelen/
LOCATION:Strandgaarden\, Esby Strandvej 8\, Esby\, Knebel\, 8420\, Danmark
CATEGORIES:Healing Weekend
GEO:56.1286857;10.5476511
X-APPLE-STRUCTURED-LOCATION;VALUE=URI;X-ADDRESS=Strandgaarden Esby Strandvej 8 Esby Knebel 8420 Danmark;X-APPLE-RADIUS=500;X-TITLE=Esby Strandvej 8:geo:10.5476511,56.1286857
END:VEVENT
END:VCALENDAR