BEGIN:VCALENDAR
VERSION:2.0
PRODID:-//Healingrejser.dk - ECPv6.15.17.1//NONSGML v1.0//EN
CALSCALE:GREGORIAN
METHOD:PUBLISH
X-WR-CALNAME:Healingrejser.dk
X-ORIGINAL-URL:https://www.healingrejser.dk
X-WR-CALDESC:Begivenheder for Healingrejser.dk
REFRESH-INTERVAL;VALUE=DURATION:PT1H
X-Robots-Tag:noindex
X-PUBLISHED-TTL:PT1H
BEGIN:VTIMEZONE
TZID:Europe/Helsinki
BEGIN:DAYLIGHT
TZOFFSETFROM:+0200
TZOFFSETTO:+0300
TZNAME:EEST
DTSTART:20170326T010000
END:DAYLIGHT
BEGIN:STANDARD
TZOFFSETFROM:+0300
TZOFFSETTO:+0200
TZNAME:EET
DTSTART:20171029T010000
END:STANDARD
BEGIN:DAYLIGHT
TZOFFSETFROM:+0200
TZOFFSETTO:+0300
TZNAME:EEST
DTSTART:20180325T010000
END:DAYLIGHT
BEGIN:STANDARD
TZOFFSETFROM:+0300
TZOFFSETTO:+0200
TZNAME:EET
DTSTART:20181028T010000
END:STANDARD
BEGIN:DAYLIGHT
TZOFFSETFROM:+0200
TZOFFSETTO:+0300
TZNAME:EEST
DTSTART:20190331T010000
END:DAYLIGHT
BEGIN:STANDARD
TZOFFSETFROM:+0300
TZOFFSETTO:+0200
TZNAME:EET
DTSTART:20191027T010000
END:STANDARD
END:VTIMEZONE
BEGIN:VEVENT
DTSTART;TZID=Europe/Helsinki:20180509T120000
DTEND;TZID=Europe/Helsinki:20180514T120000
DTSTAMP:20260419T162002
CREATED:20170825T093527Z
LAST-MODIFIED:20180507T160254Z
UID:252-1525867200-1526299200@www.healingrejser.dk
SUMMARY:Healing retræte - Cleansing of the soul 9-14 maj 18
DESCRIPTION:Indholdet er beskyttet.
URL:https://www.healingrejser.dk/event/healing-retraete-cleansing-of-the-soul-090518/
LOCATION:Strandgaarden\, Esby Strandvej 8\, Esby\, Knebel\, 8420\, Danmark
CATEGORIES:Healing Weekend
GEO:56.1286857;10.5476511
X-APPLE-STRUCTURED-LOCATION;VALUE=URI;X-ADDRESS=Strandgaarden Esby Strandvej 8 Esby Knebel 8420 Danmark;X-APPLE-RADIUS=500;X-TITLE=Esby Strandvej 8:geo:10.5476511,56.1286857
END:VEVENT
END:VCALENDAR